BEGIN:VCALENDAR
VERSION:2.0
PRODID:-//Malvern Museum of Local History - ECPv6.15.20//NONSGML v1.0//EN
CALSCALE:GREGORIAN
METHOD:PUBLISH
X-WR-CALNAME:Malvern Museum of Local History
X-ORIGINAL-URL:https://malvernmuseum.co.uk
X-WR-CALDESC:Events for Malvern Museum of Local History
REFRESH-INTERVAL;VALUE=DURATION:PT1H
X-Robots-Tag:noindex
X-PUBLISHED-TTL:PT1H
BEGIN:VTIMEZONE
TZID:Europe/London
BEGIN:DAYLIGHT
TZOFFSETFROM:+0000
TZOFFSETTO:+0100
TZNAME:BST
DTSTART:20250330T010000
END:DAYLIGHT
BEGIN:STANDARD
TZOFFSETFROM:+0100
TZOFFSETTO:+0000
TZNAME:GMT
DTSTART:20251026T010000
END:STANDARD
BEGIN:DAYLIGHT
TZOFFSETFROM:+0000
TZOFFSETTO:+0100
TZNAME:BST
DTSTART:20260329T010000
END:DAYLIGHT
BEGIN:STANDARD
TZOFFSETFROM:+0100
TZOFFSETTO:+0000
TZNAME:GMT
DTSTART:20261025T010000
END:STANDARD
BEGIN:DAYLIGHT
TZOFFSETFROM:+0000
TZOFFSETTO:+0100
TZNAME:BST
DTSTART:20270328T010000
END:DAYLIGHT
BEGIN:STANDARD
TZOFFSETFROM:+0100
TZOFFSETTO:+0000
TZNAME:GMT
DTSTART:20271031T010000
END:STANDARD
END:VTIMEZONE
BEGIN:VEVENT
DTSTART;TZID=Europe/London:20260430T140000
DTEND;TZID=Europe/London:20260430T163000
DTSTAMP:20260420T112347
CREATED:20260120T214329Z
LAST-MODIFIED:20260120T214404Z
UID:3140-1777557600-1777566600@malvernmuseum.co.uk
SUMMARY:Malvern Revisited Through its Blue and Green Plaques by Marguerite Collins
DESCRIPTION:Here is a great opportunity to marvel at all the clever and famous people who made their mark on Malvern\, and find out more about their achievements.
URL:https://malvernmuseum.co.uk/event/malvern-revisited-through-its-blue-and-green-plaques-by-marguerite-collins/
LOCATION:Christchurch Hall\, Avenue Road\, Malvern\, Worcestershire\, WR14 3AY\, United Kingdom
END:VEVENT
END:VCALENDAR